BEGIN:VCALENDAR
VERSION:2.0
PRODID:-//Nelson Pub Zürich - ECPv5.14.2.1//NONSGML v1.0//EN
CALSCALE:GREGORIAN
METHOD:PUBLISH
X-WR-CALNAME:Nelson Pub Zürich
X-ORIGINAL-URL:https://nelsonpubzurich.ch
X-WR-CALDESC:Events for Nelson Pub Zürich
BEGIN:VTIMEZONE
TZID:UTC
BEGIN:STANDARD
TZOFFSETFROM:+0000
TZOFFSETTO:+0000
TZNAME:UTC
DTSTART:20240101T000000
END:STANDARD
END:VTIMEZONE
BEGIN:VEVENT
DTSTART;TZID=UTC:20240731T200000
DTEND;TZID=UTC:20240801T020000
DTSTAMP:20260425T121356
CREATED:20240619T132610Z
LAST-MODIFIED:20240619T132610Z
UID:17560-1722456000-1722477600@nelsonpubzurich.ch
SUMMARY:1st of August Party – Open End
DESCRIPTION:1st of August Party – Open End\n  \nLine Up:               DJ Deenasty \n  \nSoundstile:           All Time Hits\, Club Dance \nHappy Birthday Switzerland! Im Nelson Pub legen wir Wert auf Traditionen. Und die Schweiz hat davon zahlreiche zu bieten. Darum wollen wir sie heute hochleben lassen. Mit einem Geburtstagsständchen bringt DJ Deenasty um Mitternacht ein Hoch auf Helvetia aus. All Time Hits und Club Dance all Night long sorgen für Beststimmung beim Publikum. Eine ausgelassene Nacht mit open end ist garantiert. \n 
URL:https://nelsonpubzurich.ch/index.php/event/1st-of-august-party-open-end/
ATTACH;FMTTYPE=image/jpeg:https://nelsonpubzurich.ch/wp-content/uploads/2024/06/31.07..jpg
END:VEVENT
END:VCALENDAR