BEGIN:VCALENDAR
VERSION:2.0
PRODID:-//Nelson Pub Zürich - ECPv5.14.2.1//NONSGML v1.0//EN
CALSCALE:GREGORIAN
METHOD:PUBLISH
X-WR-CALNAME:Nelson Pub Zürich
X-ORIGINAL-URL:https://nelsonpubzurich.ch
X-WR-CALDESC:Events for Nelson Pub Zürich
BEGIN:VTIMEZONE
TZID:UTC
BEGIN:STANDARD
TZOFFSETFROM:+0000
TZOFFSETTO:+0000
TZNAME:UTC
DTSTART:20230101T000000
END:STANDARD
END:VTIMEZONE
BEGIN:VEVENT
DTSTART;TZID=UTC:20231130T180000
DTEND;TZID=UTC:20231201T020000
DTSTAMP:20260423T075901
CREATED:20231026T082345Z
LAST-MODIFIED:20231026T082345Z
UID:17016-1701367200-1701396000@nelsonpubzurich.ch
SUMMARY:31 Years Nelson Pub!
DESCRIPTION:Line Up:               DJ Mad Flaver \n  \nSoundstile:           Deep House\, Mashup\, Club Dance \nWir feiern 31 Jahre Nelson Pub Zürich! Unser grosses Jubiläumswochenende geht in die 1. Runde. Superzentral und mitten im schönen Kreis 1\, wird gefeiert\, dass es nur so kracht. Ab 18 Uhr laden wir alle Nelson Pub Fans zu einem Welcome Drink und Apero Snacks ein. Ab 20 Uhr holt DJ Mad Flaver seine heissesten Platten raus und spielt Deep House\, Mashup und Club Dance\, bis auch der Hartgesottenste an die Grenzen seiner Tanzwut kommt. Die gemütlichen Lounges laden derweil zum Chillen ein. Happy Birthday Nelson Pub! \n 
URL:https://nelsonpubzurich.ch/index.php/event/31-years-nelson-pub/
ATTACH;FMTTYPE=image/jpeg:https://nelsonpubzurich.ch/wp-content/uploads/2023/10/30.11.-Jubilaeum-1.jpg
END:VEVENT
END:VCALENDAR