BEGIN:VCALENDAR
VERSION:2.0
PRODID:-//Nelson Pub Zürich - ECPv5.14.2.1//NONSGML v1.0//EN
CALSCALE:GREGORIAN
METHOD:PUBLISH
X-WR-CALNAME:Nelson Pub Zürich
X-ORIGINAL-URL:https://nelsonpubzurich.ch
X-WR-CALDESC:Events for Nelson Pub Zürich
BEGIN:VTIMEZONE
TZID:UTC
BEGIN:STANDARD
TZOFFSETFROM:+0000
TZOFFSETTO:+0000
TZNAME:UTC
DTSTART:20240101T000000
END:STANDARD
END:VTIMEZONE
BEGIN:VEVENT
DTSTART;TZID=UTC:20240531T200000
DTEND;TZID=UTC:20240601T043000
DTSTAMP:20260424T144450
CREATED:20231220T130311Z
LAST-MODIFIED:20240426T090114Z
UID:17170-1717185600-1717216200@nelsonpubzurich.ch
SUMMARY:Weekend Starter
DESCRIPTION:Line Up:               DJ Xeno \nSoundstile:           Deep House\, Mashup\, Club Dance \nKickstart your weekend! Im Nelson Pub geht es hoch her und heiss zu. Während DJ Xeno an den Turntables die Temperaturen und die Stimmung anheizt\, sorgen die Bartender für erfrischende Drinks in trockenen Kehlen. Gespielt wird ein furioses Set aus Deep House\, Mashup und Club Dance.
URL:https://nelsonpubzurich.ch/index.php/event/australia-day/
ATTACH;FMTTYPE=image/jpeg:https://nelsonpubzurich.ch/wp-content/uploads/2023/11/31.5.-Weekend-Starter.jpg
END:VEVENT
END:VCALENDAR