BEGIN:VCALENDAR
VERSION:2.0
PRODID:-//Nelson Pub Zürich - ECPv5.14.2.1//NONSGML v1.0//EN
CALSCALE:GREGORIAN
METHOD:PUBLISH
X-WR-CALNAME:Nelson Pub Zürich
X-ORIGINAL-URL:https://nelsonpubzurich.ch
X-WR-CALDESC:Events for Nelson Pub Zürich
BEGIN:VTIMEZONE
TZID:UTC
BEGIN:STANDARD
TZOFFSETFROM:+0000
TZOFFSETTO:+0000
TZNAME:UTC
DTSTART:20230101T000000
END:STANDARD
END:VTIMEZONE
BEGIN:VEVENT
DTSTART;TZID=UTC:20230915T200000
DTEND;TZID=UTC:20230916T043000
DTSTAMP:20260423T132750
CREATED:20211006T140304Z
LAST-MODIFIED:20230824T093226Z
UID:15049-1694808000-1694838600@nelsonpubzurich.ch
SUMMARY:Rock the City
DESCRIPTION:Line Up: DJ Adamsky \nSoundstile: All Time Hits \nThe Show must go on! Das wusste schon Freddy Mercury von der legendären Band Queen. Im Nelson Pub Zürich wird bei Rock the City getreu dem Motto gefeiert\, als gäbe es kein Morgen. Hochstimmung und Überschwang sind garantiert. DJ Adamsky ist der Dancefloormaster an den Turntables und dreht die Regler hoch bis die Luft vibriert. Zu hören gibt es All Time Hits. \n 
URL:https://nelsonpubzurich.ch/index.php/event/boxing-day-special/
LOCATION:Nelson Pub Zürich
END:VEVENT
END:VCALENDAR