BEGIN:VCALENDAR
VERSION:2.0
PRODID:-//Nelson Pub Zürich - ECPv5.14.2.1//NONSGML v1.0//EN
CALSCALE:GREGORIAN
METHOD:PUBLISH
X-WR-CALNAME:Nelson Pub Zürich
X-ORIGINAL-URL:https://nelsonpubzurich.ch
X-WR-CALDESC:Events for Nelson Pub Zürich
BEGIN:VTIMEZONE
TZID:UTC
BEGIN:STANDARD
TZOFFSETFROM:+0000
TZOFFSETTO:+0000
TZNAME:UTC
DTSTART:20230101T000000
END:STANDARD
END:VTIMEZONE
BEGIN:VEVENT
DTSTART;TZID=UTC:20231111T200000
DTEND;TZID=UTC:20231112T043000
DTSTAMP:20260422T190650
CREATED:20231026T080515Z
LAST-MODIFIED:20231026T080515Z
UID:16995-1699732800-1699763400@nelsonpubzurich.ch
SUMMARY:Burnout Night
DESCRIPTION:Line Up:               DJ Diego \n  \nSoundstile:           Charts\, House\, Partytunes \nDie Burnout Night im Nelson Pub steht dafür\, was sie verhindern will: ein Burnout wegen zuviel Stress. Denn Tanzen gilt als entspannend und Musik hebt die Stimmung. DJ Diego fungiert an den Turns als Oberarzt\, der Charts\, House und Partytunes an seine Gäste auch ohne Rezept verteilt.
URL:https://nelsonpubzurich.ch/index.php/event/burnout-night-2/
ATTACH;FMTTYPE=image/jpeg:https://nelsonpubzurich.ch/wp-content/uploads/2023/10/11.11.-Burnout-Night.jpg
END:VEVENT
END:VCALENDAR