BEGIN:VCALENDAR
VERSION:2.0
PRODID:-//Nelson Pub Zürich - ECPv5.14.2.1//NONSGML v1.0//EN
CALSCALE:GREGORIAN
METHOD:PUBLISH
X-WR-CALNAME:Nelson Pub Zürich
X-ORIGINAL-URL:https://nelsonpubzurich.ch
X-WR-CALDESC:Events for Nelson Pub Zürich
BEGIN:VTIMEZONE
TZID:UTC
BEGIN:STANDARD
TZOFFSETFROM:+0000
TZOFFSETTO:+0000
TZNAME:UTC
DTSTART:20230101T000000
END:STANDARD
END:VTIMEZONE
BEGIN:VEVENT
DTSTART;TZID=UTC:20231216T200000
DTEND;TZID=UTC:20231217T043000
DTSTAMP:20260423T223148
CREATED:20231116T112045Z
LAST-MODIFIED:20231116T112045Z
UID:17064-1702756800-1702787400@nelsonpubzurich.ch
SUMMARY:Burnout Night
DESCRIPTION:Line Up:               DJ Deenasty \n  \nSoundstile:           Deep House\, Charts \n  \nDie Tage bis zum Jahresende sind gezählt und die Vorbereitungen für die Festlichkeiten laufen auf Hochtouren. Damit man vor lauter Weihnachtsstress kein Burnout bekommt\, darf man auf gar keinen Fall die Burnout Night heute Abend im schönen Nelson Pub verpassen. Denn hier gibt es die beste Antistress-Medizin: 1A Musik zum Abtanzen in Form von Deep House und Charts von DJ Deenasty.
URL:https://nelsonpubzurich.ch/index.php/event/burnout-night-3/
ATTACH;FMTTYPE=image/jpeg:https://nelsonpubzurich.ch/wp-content/uploads/2023/11/16.12.-Burnout-Night.jpg
END:VEVENT
END:VCALENDAR