BEGIN:VCALENDAR
VERSION:2.0
PRODID:-//Nelson Pub Zürich - ECPv5.14.2.1//NONSGML v1.0//EN
CALSCALE:GREGORIAN
METHOD:PUBLISH
X-WR-CALNAME:Nelson Pub Zürich
X-ORIGINAL-URL:https://nelsonpubzurich.ch
X-WR-CALDESC:Events for Nelson Pub Zürich
BEGIN:VTIMEZONE
TZID:UTC
BEGIN:STANDARD
TZOFFSETFROM:+0000
TZOFFSETTO:+0000
TZNAME:UTC
DTSTART:20240101T000000
END:STANDARD
END:VTIMEZONE
BEGIN:VEVENT
DTSTART;TZID=UTC:20240430T200000
DTEND;TZID=UTC:20240501T043000
DTSTAMP:20260424T070929
CREATED:20231220T125910Z
LAST-MODIFIED:20240322T101856Z
UID:17164-1714507200-1714537800@nelsonpubzurich.ch
SUMMARY:Queens Day – Open End
DESCRIPTION:Line Up:               DJ Deenasty \nSoundstile:           All Time Hits \nHeute wird im Nelson Pub im Angedenken an die gute\, alte Zeit Queens Day gefeiert! Wenn dieses niederländische Fest auch schon einige Jahre auf dem Buckel hat\, so steigt an der Beatengasse 11 doch eine Sause nach ganz zeitgenössischer Manier. DJ Deenasty spielt All Time Hits all Night long.
URL:https://nelsonpubzurich.ch/index.php/event/burnout-night-4/
ATTACH;FMTTYPE=image/jpeg:https://nelsonpubzurich.ch/wp-content/uploads/2023/12/30.4.-Queens-Day13.jpg
END:VEVENT
END:VCALENDAR