BEGIN:VCALENDAR
VERSION:2.0
PRODID:-//Nelson Pub Zürich - ECPv5.14.2.1//NONSGML v1.0//EN
CALSCALE:GREGORIAN
METHOD:PUBLISH
X-WR-CALNAME:Nelson Pub Zürich
X-ORIGINAL-URL:https://nelsonpubzurich.ch
X-WR-CALDESC:Events for Nelson Pub Zürich
BEGIN:VTIMEZONE
TZID:UTC
BEGIN:STANDARD
TZOFFSETFROM:+0000
TZOFFSETTO:+0000
TZNAME:UTC
DTSTART:20230101T000000
END:STANDARD
END:VTIMEZONE
BEGIN:VEVENT
DTSTART;TZID=UTC:20231021T200000
DTEND;TZID=UTC:20231022T043000
DTSTAMP:20260422T103533
CREATED:20211228T150411Z
LAST-MODIFIED:20230915T085251Z
UID:15211-1697918400-1697949000@nelsonpubzurich.ch
SUMMARY:Feel the Heat
DESCRIPTION:Line Up: DJ Deenasty \nSoundstile: Miami Partytunes\, Charts \nFeel the Heat – das ist ein gutes Motto mitten im kalten Oktober. Denn wenn draussen eisige Winde wehen\, sind ein wenig Wärme oder gar Hitze drinnen sehr willkommen. Mit heissen Scheiben beglückt an den Turntables des Nelson Pubs DJ Deenasty seine Gäste. Er weiss\, worauf es bei einem erstklassigen Set ankommt. Mit Miami Partytunes und Charts bringt er die Gäste in Tanzextase.
URL:https://nelsonpubzurich.ch/index.php/event/burnout-night/
LOCATION:Nelson Pub Zürich
ATTACH;FMTTYPE=image/jpeg:https://nelsonpubzurich.ch/wp-content/uploads/2022/12/21.10.-Feel-the-Heat.jpg
END:VEVENT
END:VCALENDAR