BEGIN:VCALENDAR
VERSION:2.0
PRODID:-//Nelson Pub Zürich - ECPv5.14.2.1//NONSGML v1.0//EN
CALSCALE:GREGORIAN
METHOD:PUBLISH
X-WR-CALNAME:Nelson Pub Zürich
X-ORIGINAL-URL:https://nelsonpubzurich.ch
X-WR-CALDESC:Events for Nelson Pub Zürich
BEGIN:VTIMEZONE
TZID:UTC
BEGIN:STANDARD
TZOFFSETFROM:+0000
TZOFFSETTO:+0000
TZNAME:UTC
DTSTART:20230101T000000
END:STANDARD
END:VTIMEZONE
BEGIN:VEVENT
DTSTART;TZID=UTC:20231202T200000
DTEND;TZID=UTC:20231203T043000
DTSTAMP:20260423T111932
CREATED:20231116T110738Z
LAST-MODIFIED:20231116T110738Z
UID:17046-1701547200-1701577800@nelsonpubzurich.ch
SUMMARY:Feel the Heat
DESCRIPTION:Line Up:               DJ Deenasty \n  \nSoundstile:           90’s\, 2000’s\, Parytunes \n  \nFeel the Heat – die Hitze fühlen! Denn während draussen die Flocken fallen\, geht es drinnen im charmanten Nelson Pub Zürich hoch her und heiss zu. DJ Deenasty kreiert ein schweisstreibendes Set aus Charts\, All Time Hits und Club Dance\, so dass auch winterliche Frostbeulen unweigerlich in Hitzewallungen geraten.
URL:https://nelsonpubzurich.ch/index.php/event/feel-the-heat-3/
ATTACH;FMTTYPE=image/jpeg:https://nelsonpubzurich.ch/wp-content/uploads/2023/11/2.12.-Feel-the-Heat.jpg
END:VEVENT
END:VCALENDAR