BEGIN:VCALENDAR
VERSION:2.0
PRODID:-//Nelson Pub Zürich - ECPv5.14.2.1//NONSGML v1.0//EN
CALSCALE:GREGORIAN
METHOD:PUBLISH
X-WR-CALNAME:Nelson Pub Zürich
X-ORIGINAL-URL:https://nelsonpubzurich.ch
X-WR-CALDESC:Events for Nelson Pub Zürich
BEGIN:VTIMEZONE
TZID:UTC
BEGIN:STANDARD
TZOFFSETFROM:+0000
TZOFFSETTO:+0000
TZNAME:UTC
DTSTART:20210101T000000
END:STANDARD
END:VTIMEZONE
BEGIN:VEVENT
DTSTART;TZID=UTC:20211210T200000
DTEND;TZID=UTC:20211211T043000
DTSTAMP:20260423T215012
CREATED:20211006T133731Z
LAST-MODIFIED:20211129T103522Z
UID:15022-1639166400-1639197000@nelsonpubzurich.ch
SUMMARY:Feel the Heat
DESCRIPTION:Line Up: DJ Deenasty \nSoundstile: All Time Hits \nFeel the Heat – die Hitze fühlen! Dies ist gerade einen Tag nach Winterbeginn Sommer-Sehnsucht und Party-Motto zugleich. Denn während draussen die Flocken fallen\, geht es drinnen im charmanten Nelson Pub Zürich hoch her und heiss zu. DJ Deenasty kreiert ein schweisstreibendes Set aus All Time Hits\, so dass auch winterliche Frostbeulen unweigerlich in Hitzewallungen geraten.
URL:https://nelsonpubzurich.ch/index.php/event/feel-the-heat/
LOCATION:Nelson Pub Zürich
END:VEVENT
END:VCALENDAR