BEGIN:VCALENDAR
VERSION:2.0
PRODID:-//Nelson Pub Zürich - ECPv5.14.2.1//NONSGML v1.0//EN
CALSCALE:GREGORIAN
METHOD:PUBLISH
X-WR-CALNAME:Nelson Pub Zürich
X-ORIGINAL-URL:https://nelsonpubzurich.ch
X-WR-CALDESC:Events for Nelson Pub Zürich
BEGIN:VTIMEZONE
TZID:UTC
BEGIN:STANDARD
TZOFFSETFROM:+0000
TZOFFSETTO:+0000
TZNAME:UTC
DTSTART:20230101T000000
END:STANDARD
END:VTIMEZONE
BEGIN:VEVENT
DTSTART;TZID=UTC:20231109T200000
DTEND;TZID=UTC:20231110T020000
DTSTAMP:20260422T160032
CREATED:20231026T080033Z
LAST-MODIFIED:20231026T080033Z
UID:16989-1699560000-1699581600@nelsonpubzurich.ch
SUMMARY:Just Thursday
DESCRIPTION:Line Up:               DJ Calros Rivera \n  \nSoundstile:           90’s\, 2000’s\, Partytunes \nThursday – der kleine Freitag! Das vorglühen fürs Wochenende sozusagen. Und wo? Natürlich an der besten Adresse mitten im Zentrum von Zürich\, im Nelson Pub an der Beatengasse. Während draussen eisige Temparaturen herschen\, heizt DJ Carlos Rivera den Dancefloor gekonnt mit 90’s\, 2000’s und Partytunes ein.
URL:https://nelsonpubzurich.ch/index.php/event/just-thursday-2/
ATTACH;FMTTYPE=image/jpeg:https://nelsonpubzurich.ch/wp-content/uploads/2023/10/9.11.-Just-Thursday.jpg
END:VEVENT
END:VCALENDAR