BEGIN:VCALENDAR
VERSION:2.0
PRODID:-//Nelson Pub Zürich - ECPv5.14.2.1//NONSGML v1.0//EN
CALSCALE:GREGORIAN
METHOD:PUBLISH
X-WR-CALNAME:Nelson Pub Zürich
X-ORIGINAL-URL:https://nelsonpubzurich.ch
X-WR-CALDESC:Events for Nelson Pub Zürich
BEGIN:VTIMEZONE
TZID:UTC
BEGIN:STANDARD
TZOFFSETFROM:+0000
TZOFFSETTO:+0000
TZNAME:UTC
DTSTART:20230101T000000
END:STANDARD
END:VTIMEZONE
BEGIN:VEVENT
DTSTART;TZID=UTC:20231221T200000
DTEND;TZID=UTC:20231222T020000
DTSTAMP:20260423T225203
CREATED:20231116T112251Z
LAST-MODIFIED:20231116T112251Z
UID:17067-1703188800-1703210400@nelsonpubzurich.ch
SUMMARY:Just Thursday
DESCRIPTION:Line Up:               DJ Mad Flaver \n  \nSoundstile:           90’s\, 2000s\, Partytunes \n  \nThursday – der kleine Freitag! Das vorglühen fürs Wochenende sozusagen. Und wo? Natürlich an der besten Adresse mitten im Zentrum von Zürich\, im Nelson Pub an der Beatengasse. Während draussen eisige Temparaturen herschen\, heizt DJ Mad Flaver den Dancefloor gekonnt 90’s\, 2000’s und Parytunes ein.
URL:https://nelsonpubzurich.ch/index.php/event/just-thursday-3/
ATTACH;FMTTYPE=image/jpeg:https://nelsonpubzurich.ch/wp-content/uploads/2023/11/21.12.-Just-Thursday.jpg
END:VEVENT
END:VCALENDAR