BEGIN:VCALENDAR
VERSION:2.0
PRODID:-//Nelson Pub Zürich - ECPv5.14.2.1//NONSGML v1.0//EN
CALSCALE:GREGORIAN
METHOD:PUBLISH
X-WR-CALNAME:Nelson Pub Zürich
X-ORIGINAL-URL:https://nelsonpubzurich.ch
X-WR-CALDESC:Events for Nelson Pub Zürich
BEGIN:VTIMEZONE
TZID:UTC
BEGIN:STANDARD
TZOFFSETFROM:+0000
TZOFFSETTO:+0000
TZNAME:UTC
DTSTART:20240101T000000
END:STANDARD
END:VTIMEZONE
BEGIN:VEVENT
DTSTART;TZID=UTC:20240815T200000
DTEND;TZID=UTC:20240816T020000
DTSTAMP:20260426T015543
CREATED:20240619T122826Z
LAST-MODIFIED:20240722T142153Z
UID:17523-1723752000-1723773600@nelsonpubzurich.ch
SUMMARY:Rock the City
DESCRIPTION:Line Up: DJ Carlos Rivera \nSoundstile: 90’s to Charts \nRock the City ist nicht nur eine Aufforderung\, sondern ein Versprechen. Und dieses gibt heute Abend das legendäre Nelson Pub\, eine der wohl gemütlichsten und ambientereichsten Locations in Zürich. Hier kann man nicht nur herrlich herzhaft essen\, sondern heute auch zum Sound aus 90’s to Charts von DJ Carlos Rivera ausgelassen das Tanzbein schwingen.
URL:https://nelsonpubzurich.ch/index.php/event/just-thursday-5/
ATTACH;FMTTYPE=image/jpeg:https://nelsonpubzurich.ch/wp-content/uploads/2023/12/15.08..jpg
END:VEVENT
END:VCALENDAR