BEGIN:VCALENDAR
VERSION:2.0
PRODID:-//Nelson Pub Zürich - ECPv5.14.2.1//NONSGML v1.0//EN
CALSCALE:GREGORIAN
METHOD:PUBLISH
X-WR-CALNAME:Nelson Pub Zürich
X-ORIGINAL-URL:https://nelsonpubzurich.ch
X-WR-CALDESC:Events for Nelson Pub Zürich
BEGIN:VTIMEZONE
TZID:UTC
BEGIN:STANDARD
TZOFFSETFROM:+0000
TZOFFSETTO:+0000
TZNAME:UTC
DTSTART:20230101T000000
END:STANDARD
END:VTIMEZONE
BEGIN:VEVENT
DTSTART;TZID=UTC:20231123T200000
DTEND;TZID=UTC:20231124T020000
DTSTAMP:20260423T034546
CREATED:20231026T081741Z
LAST-MODIFIED:20231026T081741Z
UID:17007-1700769600-1700791200@nelsonpubzurich.ch
SUMMARY:King Knights
DESCRIPTION:Line Up:               DJ Carlos Rivera \n  \nSoundstile:           Charts\, Clubdance \nDie Ritter der Tafelrunde hätten an diesem Abend ihre hellste Freude gehabt\, denn wie stets geht’s bei der Kings Knights im Nelson Pub zünftig zu und her. Zwar kommt niemand mit Schwert und Rüstung\, doch DJ Carlos Rivera rockt den Dancefloor wie ein echter König der Nacht. Er spielt in rasanter Manier Charts und Clubdance.
URL:https://nelsonpubzurich.ch/index.php/event/king-knights-4/
ATTACH;FMTTYPE=image/jpeg:https://nelsonpubzurich.ch/wp-content/uploads/2023/10/23.11.-King-Knights.jpg
END:VEVENT
END:VCALENDAR