BEGIN:VCALENDAR
VERSION:2.0
PRODID:-//Nelson Pub Zürich - ECPv5.14.2.1//NONSGML v1.0//EN
CALSCALE:GREGORIAN
METHOD:PUBLISH
X-WR-CALNAME:Nelson Pub Zürich
X-ORIGINAL-URL:https://nelsonpubzurich.ch
X-WR-CALDESC:Events for Nelson Pub Zürich
BEGIN:VTIMEZONE
TZID:UTC
BEGIN:STANDARD
TZOFFSETFROM:+0000
TZOFFSETTO:+0000
TZNAME:UTC
DTSTART:20230101T000000
END:STANDARD
END:VTIMEZONE
BEGIN:VEVENT
DTSTART;TZID=UTC:20231214T200000
DTEND;TZID=UTC:20231215T020000
DTSTAMP:20260423T180754
CREATED:20231116T111649Z
LAST-MODIFIED:20231116T111649Z
UID:17058-1702584000-1702605600@nelsonpubzurich.ch
SUMMARY:King Knights
DESCRIPTION:Line Up:               DJ MEH \n  \nSoundstile:           House\, Mashup\, Partytunes \nKing Knights ist der Abend für Geniesser\, Gourmands und Feinschmecker erlesener Gesellschaft\, bester Biere und erstklassigen Ambientes. Denn im schönen Nelson Pub kommt wieder zusammen\, was zusammen gehört: Illustre Gäste\, ein versierter DJ namens MEH und allerbester Sound aus den Sparten House\, Mashup und Partytunes. So lässt es sich wohl ergehen! \n  \n 
URL:https://nelsonpubzurich.ch/index.php/event/king-knights-5/
ATTACH;FMTTYPE=image/jpeg:https://nelsonpubzurich.ch/wp-content/uploads/2023/11/14.12.-King-Knights.jpg
END:VEVENT
END:VCALENDAR