BEGIN:VCALENDAR
VERSION:2.0
PRODID:-//Nelson Pub Zürich - ECPv5.14.2.1//NONSGML v1.0//EN
CALSCALE:GREGORIAN
METHOD:PUBLISH
X-WR-CALNAME:Nelson Pub Zürich
X-ORIGINAL-URL:https://nelsonpubzurich.ch
X-WR-CALDESC:Events for Nelson Pub Zürich
BEGIN:VTIMEZONE
TZID:UTC
BEGIN:STANDARD
TZOFFSETFROM:+0000
TZOFFSETTO:+0000
TZNAME:UTC
DTSTART:20240101T000000
END:STANDARD
END:VTIMEZONE
BEGIN:VEVENT
DTSTART;TZID=UTC:20240809T200000
DTEND;TZID=UTC:20240810T043000
DTSTAMP:20260425T222024
CREATED:20231220T124732Z
LAST-MODIFIED:20240722T142013Z
UID:17149-1723233600-1723264200@nelsonpubzurich.ch
SUMMARY:Feel the Heat
DESCRIPTION:Line Up: DJ Deenasty \nSoundstile: Miami Partytunes\, Charts \nIt’s hot\, Baby! Die Feel the Heat Eventserie geht in die nächste Runde. Das Nelson Pub\, das sich als Hort für alle Expats\, Partygänger und Frohnaturen versteht\, lädt zum ausgelassenen Feiern ein. DJ Deenasty schraubt die Regler hoch und spielt erfrischenden Miami Partytunes\, abgemixt mit einer ordentlichen Prise Charts. Get in touch!
URL:https://nelsonpubzurich.ch/index.php/event/king-knights-6/
ATTACH;FMTTYPE=image/jpeg:https://nelsonpubzurich.ch/wp-content/uploads/2023/12/09.08..jpg
END:VEVENT
END:VCALENDAR