BEGIN:VCALENDAR
VERSION:2.0
PRODID:-//Nelson Pub Zürich - ECPv5.14.2.1//NONSGML v1.0//EN
CALSCALE:GREGORIAN
METHOD:PUBLISH
X-WR-CALNAME:Nelson Pub Zürich
X-ORIGINAL-URL:https://nelsonpubzurich.ch
X-WR-CALDESC:Events for Nelson Pub Zürich
BEGIN:VTIMEZONE
TZID:UTC
BEGIN:STANDARD
TZOFFSETFROM:+0000
TZOFFSETTO:+0000
TZNAME:UTC
DTSTART:20260101T000000
END:STANDARD
END:VTIMEZONE
BEGIN:VEVENT
DTSTART;TZID=UTC:20260427T180000
DTEND;TZID=UTC:20260428T010000
DTSTAMP:20260420T154941
CREATED:20240816T081613Z
LAST-MODIFIED:20260327T161044Z
UID:17667-1777312800-1777338000@nelsonpubzurich.ch
SUMMARY:King's Day
DESCRIPTION:🧡👑 KING’S DAY – THE ULTIMATE ORANGE PARTY! 👑🧡 \n  \nZurich is turning ORANGE!🔥\nStep into the wild\, vibrant spirit of the Netherlands and celebrate King’s Day like you’re right in the heart of Amsterdam. \nExpect high-energy vibes\, packed dance floors\, and nothing but feel-good music– from Charts & Disco to All-Time Hits 🎶💃🕺 \n  \n🧡 Dress in ORANGE – go bold\, go crazy!\n🍻 Free Welcome-Drink and Finger Food from 19:30 – 21:00\n🎉 Non-stop dancing & sing-along anthems\n🔥 The ultimate Monday you don’t want to miss \n  \nBring your crew\, bring your energy\, and let’s make this a King’s Day to remember – loud\, orange\, and unforgettable! 🧡🎊
URL:https://nelsonpubzurich.ch/index.php/event/king-knights-8/
ATTACH;FMTTYPE=image/jpeg:https://nelsonpubzurich.ch/wp-content/uploads/2024/10/27.04.2026.jpg
END:VEVENT
END:VCALENDAR