BEGIN:VCALENDAR
VERSION:2.0
PRODID:-//Nelson Pub Zürich - ECPv5.14.2.1//NONSGML v1.0//EN
CALSCALE:GREGORIAN
METHOD:PUBLISH
X-WR-CALNAME:Nelson Pub Zürich
X-ORIGINAL-URL:https://nelsonpubzurich.ch
X-WR-CALDESC:Events for Nelson Pub Zürich
BEGIN:VTIMEZONE
TZID:UTC
BEGIN:STANDARD
TZOFFSETFROM:+0000
TZOFFSETTO:+0000
TZNAME:UTC
DTSTART:20210101T000000
END:STANDARD
END:VTIMEZONE
BEGIN:VEVENT
DTSTART;TZID=UTC:20211007T003000
DTEND;TZID=UTC:20211029T020000
DTSTAMP:20260424T043038
CREATED:20210503T155335Z
LAST-MODIFIED:20211007T085048Z
UID:14272-1633566600-1635472800@nelsonpubzurich.ch
SUMMARY:Oktoberfest im Lady Hamilton's Pub
DESCRIPTION:O’Zapft is! \nWir feiern das Bierfest der Feste jeden Donnerstag im Oktober im Lady Hamilton’s Pub. Die Zahl der verfügbaren Plätze ist beschränkt und es können nur 140 Personen am Anlass teilnehmen. Somit ist auch dafür gesorgt\, dass zwischen den Tischen genügend Abstand vorhanden ist und ihr den Abend ohne Sorgen geniessen könnt. \nTickets kaufen unter: oktoberfest.bg11.ch
URL:https://nelsonpubzurich.ch/index.php/event/king-knights/
LOCATION:Nelson Pub Zürich
END:VEVENT
END:VCALENDAR