BEGIN:VCALENDAR
VERSION:2.0
PRODID:-//Nelson Pub Zürich - ECPv5.14.2.1//NONSGML v1.0//EN
CALSCALE:GREGORIAN
METHOD:PUBLISH
X-WR-CALNAME:Nelson Pub Zürich
X-ORIGINAL-URL:https://nelsonpubzurich.ch
X-WR-CALDESC:Events for Nelson Pub Zürich
BEGIN:VTIMEZONE
TZID:UTC
BEGIN:STANDARD
TZOFFSETFROM:+0000
TZOFFSETTO:+0000
TZNAME:UTC
DTSTART:20230101T000000
END:STANDARD
END:VTIMEZONE
BEGIN:VEVENT
DTSTART;TZID=UTC:20230928T200000
DTEND;TZID=UTC:20230929T020000
DTSTAMP:20260423T062652
CREATED:20211228T150122Z
LAST-MODIFIED:20230824T093817Z
UID:15205-1695931200-1695952800@nelsonpubzurich.ch
SUMMARY:Let’s Party
DESCRIPTION:Line Up: DJ Carlos Rivera \nSoundstile: Deep House\, Charts \nLet’s Party – so einfach wird es auf den Punkt gebracht. Denn egal\, ob es einen Grund zu feiern gibt oder gerade gegen einen Frust angekämpft werden muss: tanzen\, lachen und Freunde treffen\, ist immer eine gute Idee. Und weil das so ist\, lädt DJ Carlos Rivera ins Nelson Pub und kredenzt dort seiner Fangemeinde eine glänzende Musik-Mixtur aus Deep House und Charts.
URL:https://nelsonpubzurich.ch/index.php/event/kings-of-kreis-1-2/
LOCATION:Nelson Pub Zürich
END:VEVENT
END:VCALENDAR