BEGIN:VCALENDAR
VERSION:2.0
PRODID:-//Nelson Pub Zürich - ECPv5.14.2.1//NONSGML v1.0//EN
CALSCALE:GREGORIAN
METHOD:PUBLISH
X-WR-CALNAME:Nelson Pub Zürich
X-ORIGINAL-URL:https://nelsonpubzurich.ch
X-WR-CALDESC:Events for Nelson Pub Zürich
BEGIN:VTIMEZONE
TZID:UTC
BEGIN:STANDARD
TZOFFSETFROM:+0000
TZOFFSETTO:+0000
TZNAME:UTC
DTSTART:20230101T000000
END:STANDARD
END:VTIMEZONE
BEGIN:VEVENT
DTSTART;TZID=UTC:20231102T080000
DTEND;TZID=UTC:20231103T000000
DTSTAMP:20260422T101932
CREATED:20231026T075643Z
LAST-MODIFIED:20231026T075643Z
UID:16983-1698912000-1698969600@nelsonpubzurich.ch
SUMMARY:Kings of Kreis 1
DESCRIPTION:Line Up:               DJ Carlos Rivera \n  \nSoundstile:           House\, Clubtunes\, Charts \nBei der Kings of Kreis 1 Sause im Nelson Pub findet sich einmal mehr die Crème de la Crème der Bahnhofstrasse und Umgebung zusammen. Kein Wunder\, denn DJ Carlos Rivera ist für den Sound verantwortlich. Wer ihn schonmal gehört hat\, weiss\, warum ihm sein Name vorauseilt\, ein Tausendsassa des Nachtlebens zu sein. Er spielt House\, Clubtunes und Charts. Be prepared…
URL:https://nelsonpubzurich.ch/index.php/event/kings-of-kreis-1-3/
ATTACH;FMTTYPE=image/jpeg:https://nelsonpubzurich.ch/wp-content/uploads/2023/10/2.11.-Kings-of-Kreis-1.jpg
END:VEVENT
END:VCALENDAR