BEGIN:VCALENDAR
VERSION:2.0
PRODID:-//Nelson Pub Zürich - ECPv5.14.2.1//NONSGML v1.0//EN
CALSCALE:GREGORIAN
METHOD:PUBLISH
X-WR-CALNAME:Nelson Pub Zürich
X-ORIGINAL-URL:https://nelsonpubzurich.ch
X-WR-CALDESC:Events for Nelson Pub Zürich
BEGIN:VTIMEZONE
TZID:UTC
BEGIN:STANDARD
TZOFFSETFROM:+0000
TZOFFSETTO:+0000
TZNAME:UTC
DTSTART:20230101T000000
END:STANDARD
END:VTIMEZONE
BEGIN:VEVENT
DTSTART;TZID=UTC:20231222T200000
DTEND;TZID=UTC:20231223T043000
DTSTAMP:20260424T003217
CREATED:20231116T112448Z
LAST-MODIFIED:20231116T112448Z
UID:17070-1703275200-1703305800@nelsonpubzurich.ch
SUMMARY:Kings of Kreis 1
DESCRIPTION:Line Up:               DJ Enzo \n  \nSoundstile:           All Time Hits \nBei der Kings of Kreis 1 Sause findet sich im Nelson Pub einmal mehr die Crème de la Crème der Bahnhofstrasse und Umgebung zusammen. Kein Wunder\, denn DJ Enzo ist für den Sound verantwortlich. Wer ihn schonmal gehört hat\, weiss\, warum ihm sein Name vorauseilt\, ein Tausendsassa des Nachtlebens zu sein. Er spielt All Time Hits. Be prepared… \n 
URL:https://nelsonpubzurich.ch/index.php/event/kings-of-kreis-1-4/
ATTACH;FMTTYPE=image/jpeg:https://nelsonpubzurich.ch/wp-content/uploads/2023/11/22.12.-Kings-of-Kreis-1.jpg
END:VEVENT
END:VCALENDAR