BEGIN:VCALENDAR
VERSION:2.0
PRODID:-//Nelson Pub Zürich - ECPv5.14.2.1//NONSGML v1.0//EN
CALSCALE:GREGORIAN
METHOD:PUBLISH
X-WR-CALNAME:Nelson Pub Zürich
X-ORIGINAL-URL:https://nelsonpubzurich.ch
X-WR-CALDESC:Events for Nelson Pub Zürich
BEGIN:VTIMEZONE
TZID:UTC
BEGIN:STANDARD
TZOFFSETFROM:+0000
TZOFFSETTO:+0000
TZNAME:UTC
DTSTART:20260101T000000
END:STANDARD
END:VTIMEZONE
BEGIN:VEVENT
DTSTART;TZID=UTC:20260423T200000
DTEND;TZID=UTC:20260424T020000
DTSTAMP:20260420T112835
CREATED:20241028T102552Z
LAST-MODIFIED:20260327T141737Z
UID:17745-1776974400-1776996000@nelsonpubzurich.ch
SUMMARY:90’s\, 2000’s\, Party
DESCRIPTION:DJ: Carlos Rivera\nMusic: 90’s\, 2000’s\, All Time Hits \n🎶 Throwback Time! 🎶 \nEvery Thursday\, one of our resident DJs brings the best hits of the 90s and 2000s back to the dance floor. From Britney to Eminem\, from Backstreet Boys to Rihanna – we celebrate the classics you still know by heart. \nThe songs that defined a generation.\nThe anthems you can’t help but sing along to. \nHits that stay. Party on! 🔥🎉
URL:https://nelsonpubzurich.ch/index.php/event/kings-of-kreis-1-7/
ATTACH;FMTTYPE=image/jpeg:https://nelsonpubzurich.ch/wp-content/uploads/2024/08/26.03.2026.jpg
END:VEVENT
END:VCALENDAR