BEGIN:VCALENDAR
VERSION:2.0
PRODID:-//Nelson Pub Zürich - ECPv5.14.2.1//NONSGML v1.0//EN
CALSCALE:GREGORIAN
METHOD:PUBLISH
X-WR-CALNAME:Nelson Pub Zürich
X-ORIGINAL-URL:https://nelsonpubzurich.ch
X-WR-CALDESC:Events for Nelson Pub Zürich
BEGIN:VTIMEZONE
TZID:UTC
BEGIN:STANDARD
TZOFFSETFROM:+0000
TZOFFSETTO:+0000
TZNAME:UTC
DTSTART:20210101T000000
END:STANDARD
END:VTIMEZONE
BEGIN:VEVENT
DTSTART;TZID=UTC:20211204T200000
DTEND;TZID=UTC:20211205T043000
DTSTAMP:20260423T234535
CREATED:20210930T142738Z
LAST-MODIFIED:20211125T160443Z
UID:15004-1638648000-1638678600@nelsonpubzurich.ch
SUMMARY:Let's Party
DESCRIPTION:Line Up: DJ Casa \nSoundstile: Deep House\, Mashup\, Club Dance \n„Let`s Party!“ ist das beste Motto\, das man sich im Dezember vorstellen und der beste Vorsatz\, den man sich jetzt vornehmen kann. Es reihen sich die festlichen Highlights nur so aneinander: Samichlaus\, Weihnachten\, Silvester – die wunderbare Feierei nimmt gar kein Ende. Da reiht sich das Nelson Pub gerne ein und lässt mit DJ Casa und Deep House\, Mashup und Club Dance eine prächtige Sause steigen. \n 
URL:https://nelsonpubzurich.ch/index.php/event/lets-party-2/
LOCATION:Nelson Pub Zürich
END:VEVENT
END:VCALENDAR