BEGIN:VCALENDAR
VERSION:2.0
PRODID:-//Nelson Pub Zürich - ECPv5.14.2.1//NONSGML v1.0//EN
CALSCALE:GREGORIAN
METHOD:PUBLISH
X-WR-CALNAME:Nelson Pub Zürich
X-ORIGINAL-URL:https://nelsonpubzurich.ch
X-WR-CALDESC:Events for Nelson Pub Zürich
BEGIN:VTIMEZONE
TZID:UTC
BEGIN:STANDARD
TZOFFSETFROM:+0000
TZOFFSETTO:+0000
TZNAME:UTC
DTSTART:20240101T000000
END:STANDARD
END:VTIMEZONE
BEGIN:VEVENT
DTSTART;TZID=UTC:20240927T200000
DTEND;TZID=UTC:20240928T043000
DTSTAMP:20260426T034725
CREATED:20240816T081917Z
LAST-MODIFIED:20240816T081917Z
UID:17670-1727467200-1727497800@nelsonpubzurich.ch
SUMMARY:Let’s Party
DESCRIPTION:Line Up:               DJ Deenasty \n  \nSoundstile:           Partytunes\, Club Dance \nLet’s Party – so einfach wird es auf den Punkt gebracht. Denn egal\, ob es einen Grund zu feiern gibt oder gerade gegen einen Frust angekämpft werden muss: tanzen\, lachen und Freunde treffen\, ist immer eine gute Idee. Und weil das so ist\, lädt DJ Deenasty ins Nelson Pub und kredenzt dort seiner Fangemeinde eine glänzende Musik-Mixtur aus Partytunes und Club Dance.
URL:https://nelsonpubzurich.ch/index.php/event/lets-party-5/
ATTACH;FMTTYPE=image/jpeg:https://nelsonpubzurich.ch/wp-content/uploads/2024/08/27.09..jpg
END:VEVENT
END:VCALENDAR