BEGIN:VCALENDAR
VERSION:2.0
PRODID:-//Nelson Pub Zürich - ECPv5.14.2.1//NONSGML v1.0//EN
CALSCALE:GREGORIAN
METHOD:PUBLISH
X-WR-CALNAME:Nelson Pub Zürich
X-ORIGINAL-URL:https://nelsonpubzurich.ch
X-WR-CALDESC:Events for Nelson Pub Zürich
BEGIN:VTIMEZONE
TZID:UTC
BEGIN:STANDARD
TZOFFSETFROM:+0000
TZOFFSETTO:+0000
TZNAME:UTC
DTSTART:20240101T000000
END:STANDARD
END:VTIMEZONE
BEGIN:VEVENT
DTSTART;TZID=UTC:20240508T143000
DTEND;TZID=UTC:20240509T043000
DTSTAMP:20260424T084431
CREATED:20231220T103526Z
LAST-MODIFIED:20240426T084007Z
UID:17133-1715178600-1715229000@nelsonpubzurich.ch
SUMMARY:Auffahrtsparty – Open End
DESCRIPTION:Line Up:               DJ Marque Q \nSoundstile:           90’s\, 2000’s\, Partytunes \nDer Frühling ist die Zeit der Feiertage und mit Feiern kennt man sich im Nelson Pub aus. Auch morgen steht wieder Ausschlafen auf dem Programm\, denn es ist Auffahrt. Und wer ausschlafen möchte\, der bleibt bestenfalls lange auf und verbringt die Zeit in Zürichs erster Adresse für britische Barkultur. DJ Marque Q spielt ein furioses und äusserst tanzbares Potpourri aus 90’s\, 2000’s und Partytunes. \n 
URL:https://nelsonpubzurich.ch/index.php/event/new-years-afterparty/
ATTACH;FMTTYPE=image/jpeg:https://nelsonpubzurich.ch/wp-content/uploads/2023/11/8.5.-Auffahrtsparty.jpg
END:VEVENT
END:VCALENDAR