BEGIN:VCALENDAR
VERSION:2.0
PRODID:-//Nelson Pub Zürich - ECPv5.14.2.1//NONSGML v1.0//EN
CALSCALE:GREGORIAN
METHOD:PUBLISH
X-WR-CALNAME:Nelson Pub Zürich
X-ORIGINAL-URL:https://nelsonpubzurich.ch
X-WR-CALDESC:Events for Nelson Pub Zürich
BEGIN:VTIMEZONE
TZID:UTC
BEGIN:STANDARD
TZOFFSETFROM:+0000
TZOFFSETTO:+0000
TZNAME:UTC
DTSTART:20230101T000000
END:STANDARD
END:VTIMEZONE
BEGIN:VEVENT
DTSTART;TZID=UTC:20231027T200000
DTEND;TZID=UTC:20231028T043000
DTSTAMP:20260422T070724
CREATED:20211228T145732Z
LAST-MODIFIED:20230915T085452Z
UID:15201-1698436800-1698467400@nelsonpubzurich.ch
SUMMARY:Halloween Party
DESCRIPTION:Line Up: DJ Adamsky \nSoundstile: House\, Clubtunes\, Charts \nDer Höhepunkt des Oktobers und wohl des ganzen Herbstes steht auf dem Programm des Nelson Pub. Wir feiern Halloween mit allen Hexen und Teufeln\, allen Vampieren und Werwölfen und was sich noch für Gestalten der Nacht bei uns einfinden mögen. DJ Adamsky heizt die Stimmung an bis zum Überkochen. Kostüme sind willkommen! Happy Halloween!
URL:https://nelsonpubzurich.ch/index.php/event/party-power/
LOCATION:Nelson Pub Zürich
ATTACH;FMTTYPE=image/jpeg:https://nelsonpubzurich.ch/wp-content/uploads/2022/12/27.10.-Halloween-Party.jpg
END:VEVENT
END:VCALENDAR