BEGIN:VCALENDAR
VERSION:2.0
PRODID:-//Nelson Pub Zürich - ECPv5.14.2.1//NONSGML v1.0//EN
CALSCALE:GREGORIAN
METHOD:PUBLISH
X-WR-CALNAME:Nelson Pub Zürich
X-ORIGINAL-URL:https://nelsonpubzurich.ch
X-WR-CALDESC:Events for Nelson Pub Zürich
BEGIN:VTIMEZONE
TZID:UTC
BEGIN:STANDARD
TZOFFSETFROM:+0000
TZOFFSETTO:+0000
TZNAME:UTC
DTSTART:20240101T000000
END:STANDARD
END:VTIMEZONE
BEGIN:VEVENT
DTSTART;TZID=UTC:20240621T200000
DTEND;TZID=UTC:20240622T043000
DTSTAMP:20260425T004422
CREATED:20231116T130939Z
LAST-MODIFIED:20240530T095216Z
UID:17091-1719000000-1719030600@nelsonpubzurich.ch
SUMMARY:Super Friday
DESCRIPTION:Line Up:               DJ Deenasty \nSoundstile:           90’s to Charts \nSuper Trooper\, Super Friday! Wir starten ins Wochenende\, dass es nur so kracht. Mit DJ Deenasty zelebrieren wir im Nelson Pub einen würdigen Abschied für den Frühling und stürzen uns ins sommerliche Vergnügen. Dieses beginnt heute ab 20 Uhr und getanzt wird durch die ganze Nacht. 90’s to Charts sorgen für stimmungsvolle Atmosphäre\, der Flirtfaktor ist: hoch.
URL:https://nelsonpubzurich.ch/index.php/event/partynator-3/
ATTACH;FMTTYPE=image/jpeg:https://nelsonpubzurich.ch/wp-content/uploads/2023/11/21.06.-Super-Friday.jpg
END:VEVENT
END:VCALENDAR