BEGIN:VCALENDAR
VERSION:2.0
PRODID:-//Nelson Pub Zürich - ECPv5.14.2.1//NONSGML v1.0//EN
CALSCALE:GREGORIAN
METHOD:PUBLISH
X-WR-CALNAME:Nelson Pub Zürich
X-ORIGINAL-URL:https://nelsonpubzurich.ch
X-WR-CALDESC:Events for Nelson Pub Zürich
BEGIN:VTIMEZONE
TZID:UTC
BEGIN:STANDARD
TZOFFSETFROM:+0000
TZOFFSETTO:+0000
TZNAME:UTC
DTSTART:20240101T000000
END:STANDARD
END:VTIMEZONE
BEGIN:VEVENT
DTSTART;TZID=UTC:20240523T200000
DTEND;TZID=UTC:20240524T020000
DTSTAMP:20260424T113853
CREATED:20231220T125415Z
LAST-MODIFIED:20240426T085612Z
UID:17158-1716494400-1716516000@nelsonpubzurich.ch
SUMMARY:Full Moon Party
DESCRIPTION:Line Up:               DJ Carlos Rivera \nSoundstile:           Partytunes\, Club Dance \nHeute ist Vollmondnacht! Und das bedeutet\, dass im Nelson Pub wieder die Glocken schlagen\, um die Full Moon Party einzuläuten. Denn mit seinem Schwarm bei Vollmond tanzen\, soll ja bekanntlich Glück in der Liebe bringen. Wie stets wird in der stimmungsvollen Location an der Beatengasse 11 ein grandioser Abend erwartet. DJ Carlos Rivera spielt Partytunes und Club Dance – all Night long.
URL:https://nelsonpubzurich.ch/index.php/event/partynator-4/
ATTACH;FMTTYPE=image/jpeg:https://nelsonpubzurich.ch/wp-content/uploads/2023/11/23.5.-Full-Moon-Party.jpg
END:VEVENT
END:VCALENDAR