BEGIN:VCALENDAR
VERSION:2.0
PRODID:-//Nelson Pub Zürich - ECPv5.14.2.1//NONSGML v1.0//EN
CALSCALE:GREGORIAN
METHOD:PUBLISH
X-WR-CALNAME:Nelson Pub Zürich
X-ORIGINAL-URL:https://nelsonpubzurich.ch
X-WR-CALDESC:Events for Nelson Pub Zürich
BEGIN:VTIMEZONE
TZID:UTC
BEGIN:STANDARD
TZOFFSETFROM:+0000
TZOFFSETTO:+0000
TZNAME:UTC
DTSTART:20210101T000000
END:STANDARD
END:VTIMEZONE
BEGIN:VEVENT
DTSTART;TZID=UTC:20211216T200000
DTEND;TZID=UTC:20211217T020000
DTSTAMP:20260423T184932
CREATED:20211006T140100Z
LAST-MODIFIED:20211130T095237Z
UID:15045-1639684800-1639706400@nelsonpubzurich.ch
SUMMARY:Partynator – Studi Night
DESCRIPTION:Line Up: DJ Mad Flaver \nSoundstile: House\, Dance\, Mashup \nJeder\, der einen Studentenausweis hat\, bekommt ganztags 20% Rabatt auf das komplette Angebot (ausser Spirituosen). DJ Mad Flaver spielt House\, Dance und Mashup. \n 
URL:https://nelsonpubzurich.ch/index.php/event/partynator-studi-night/
LOCATION:Nelson Pub Zürich
END:VEVENT
END:VCALENDAR