BEGIN:VCALENDAR
VERSION:2.0
PRODID:-//Nelson Pub Zürich - ECPv5.14.2.1//NONSGML v1.0//EN
CALSCALE:GREGORIAN
METHOD:PUBLISH
X-WR-CALNAME:Nelson Pub Zürich
X-ORIGINAL-URL:https://nelsonpubzurich.ch
X-WR-CALDESC:Events for Nelson Pub Zürich
BEGIN:VTIMEZONE
TZID:UTC
BEGIN:STANDARD
TZOFFSETFROM:+0000
TZOFFSETTO:+0000
TZNAME:UTC
DTSTART:20230101T000000
END:STANDARD
END:VTIMEZONE
BEGIN:VEVENT
DTSTART;TZID=UTC:20231019T200000
DTEND;TZID=UTC:20231020T020000
DTSTAMP:20260422T135340
CREATED:20211228T151348Z
LAST-MODIFIED:20230915T084956Z
UID:15236-1697745600-1697767200@nelsonpubzurich.ch
SUMMARY:Rock the Night
DESCRIPTION:Line Up: DJ Carlos Rivera \nSoundstile: Charts\, Club Dance \nDas Nelson Pub lädt zu Rock the Night Sause ein! Und dies ist wortwörtlich zu verstehen. Einladen heisst\, der Eintritt ist frei und Rock the Night bedeutet\, dass der Dancefloor in nullkommanichts zu glühen beginnt\, wenn DJ Carlos Rivera seine besten Platten aus den Genres Charts und Club Dance auf die Plattenteller schmeisst. Mach dich bereit…
URL:https://nelsonpubzurich.ch/index.php/event/partynator/
LOCATION:Nelson Pub Zürich
ATTACH;FMTTYPE=image/jpeg:https://nelsonpubzurich.ch/wp-content/uploads/2022/12/19.10.-Rock-the-Night.jpg
END:VEVENT
END:VCALENDAR