BEGIN:VCALENDAR
VERSION:2.0
PRODID:-//Nelson Pub Zürich - ECPv5.14.2.1//NONSGML v1.0//EN
CALSCALE:GREGORIAN
METHOD:PUBLISH
X-WR-CALNAME:Nelson Pub Zürich
X-ORIGINAL-URL:https://nelsonpubzurich.ch
X-WR-CALDESC:Events for Nelson Pub Zürich
BEGIN:VTIMEZONE
TZID:UTC
BEGIN:STANDARD
TZOFFSETFROM:+0000
TZOFFSETTO:+0000
TZNAME:UTC
DTSTART:20230101T000000
END:STANDARD
END:VTIMEZONE
BEGIN:VEVENT
DTSTART;TZID=UTC:20231005T200000
DTEND;TZID=UTC:20231006T020000
DTSTAMP:20260422T233845
CREATED:20221221T083741Z
LAST-MODIFIED:20230915T083226Z
UID:16463-1696536000-1696557600@nelsonpubzurich.ch
SUMMARY:Partynator
DESCRIPTION:Line Up: DJ Carlos Rivera \nSoundstile: House\, Mashup\, Partytunes \nAchtung\, der Partynator kommt! Und der fegt über den Dancefloor des Nelson Pubs\, dass es nur so kracht. Mancheiner ist dem Nelson Pub längst verfallen und wenn DJ Carlos Rivera seine besten Platten rausholt und House\, Mashup und Partytunes spielt\, dürfte eine weitere unvergessliche Nacht folgen.
URL:https://nelsonpubzurich.ch/index.php/event/rock-the-city-2/
LOCATION:Nelson Pub Zürich
ATTACH;FMTTYPE=image/jpeg:https://nelsonpubzurich.ch/wp-content/uploads/2022/12/5.10.-Partynator.jpg
END:VEVENT
END:VCALENDAR