BEGIN:VCALENDAR
VERSION:2.0
PRODID:-//Nelson Pub Zürich - ECPv5.14.2.1//NONSGML v1.0//EN
CALSCALE:GREGORIAN
METHOD:PUBLISH
X-WR-CALNAME:Nelson Pub Zürich
X-ORIGINAL-URL:https://nelsonpubzurich.ch
X-WR-CALDESC:Events for Nelson Pub Zürich
BEGIN:VTIMEZONE
TZID:UTC
BEGIN:STANDARD
TZOFFSETFROM:+0000
TZOFFSETTO:+0000
TZNAME:UTC
DTSTART:20230101T000000
END:STANDARD
END:VTIMEZONE
BEGIN:VEVENT
DTSTART;TZID=UTC:20231125T200000
DTEND;TZID=UTC:20231126T043000
DTSTAMP:20260423T061857
CREATED:20231026T082122Z
LAST-MODIFIED:20231026T082122Z
UID:17013-1700942400-1700973000@nelsonpubzurich.ch
SUMMARY:Rock the City
DESCRIPTION:Line Up:               DJ Franco \n  \nSoundstile:           All Time Hits\, Club Dance \nWe will\, we will rock you! Das hat nicht nur die legendäre Band Queen mit dem unvergessenen Frontmann Freddy Mercury gesungen\, sondern das hat sich das schöne Nelson Pub auf die Fahnen geschrieben. Bei der Rock the City Sause gibt es in Sachen Partymachen sprichwörtlich keine Rücksicht auf Verluste. DJ Franco spielt dazu die besten Hits allerzeiten.
URL:https://nelsonpubzurich.ch/index.php/event/rock-the-city-3/
ATTACH;FMTTYPE=image/jpeg:https://nelsonpubzurich.ch/wp-content/uploads/2023/10/25.11.-Rock-the-City.jpg
END:VEVENT
END:VCALENDAR