BEGIN:VCALENDAR
VERSION:2.0
PRODID:-//Nelson Pub Zürich - ECPv5.14.2.1//NONSGML v1.0//EN
CALSCALE:GREGORIAN
METHOD:PUBLISH
X-WR-CALNAME:Nelson Pub Zürich
X-ORIGINAL-URL:https://nelsonpubzurich.ch
X-WR-CALDESC:Events for Nelson Pub Zürich
BEGIN:VTIMEZONE
TZID:UTC
BEGIN:STANDARD
TZOFFSETFROM:+0000
TZOFFSETTO:+0000
TZNAME:UTC
DTSTART:20230101T000000
END:STANDARD
END:VTIMEZONE
BEGIN:VEVENT
DTSTART;TZID=UTC:20231026T200000
DTEND;TZID=UTC:20231027T020000
DTSTAMP:20260422T085907
CREATED:20211228T151056Z
LAST-MODIFIED:20230915T085341Z
UID:15229-1698350400-1698372000@nelsonpubzurich.ch
SUMMARY:Rock the City
DESCRIPTION:Line Up: DJ Carlos Rivera \nSoundstile: Deep House\, Mashup\, Club Dance \nWe will\, we will rock you! Das hat nicht nur die legendäre Band Queen mit dem unvergessenen Frontmann Freddy Mercury gesungen\, sondern das hat sich das schöne Nelson Pub die Fahnen geschrieben. Bei der Rock the City Sause gibt es in Sachen Partymachen sprichwörtlich keine Rücksicht auf Verluste. DJ Carlos Rivera spielt dazu Deep House\, Mashup und Club Dance.
URL:https://nelsonpubzurich.ch/index.php/event/rock-the-city/
LOCATION:Nelson Pub Zürich
ATTACH;FMTTYPE=image/jpeg:https://nelsonpubzurich.ch/wp-content/uploads/2022/12/26.10.-Rock-the-City.jpg
END:VEVENT
END:VCALENDAR