BEGIN:VCALENDAR
VERSION:2.0
PRODID:-//Nelson Pub Zürich - ECPv5.14.2.1//NONSGML v1.0//EN
CALSCALE:GREGORIAN
METHOD:PUBLISH
X-WR-CALNAME:Nelson Pub Zürich
X-ORIGINAL-URL:https://nelsonpubzurich.ch
X-WR-CALDESC:Events for Nelson Pub Zürich
BEGIN:VTIMEZONE
TZID:UTC
BEGIN:STANDARD
TZOFFSETFROM:+0000
TZOFFSETTO:+0000
TZNAME:UTC
DTSTART:20230101T000000
END:STANDARD
END:VTIMEZONE
BEGIN:VEVENT
DTSTART;TZID=UTC:20231208T200000
DTEND;TZID=UTC:20231209T043000
DTSTAMP:20260423T150523
CREATED:20231116T111148Z
LAST-MODIFIED:20231116T111148Z
UID:17051-1702065600-1702096200@nelsonpubzurich.ch
SUMMARY:Rock the Night
DESCRIPTION:Line Up:               DJ Adamksy \n  \nSoundstile:           Mashup\, Charts \nRock the Night – dies gilt natürlich auch im Dezember. DJ Adamsky steht an den Turns und hat seine besten Platten aus den Sparten Mashup und Charts dabei. Gefeiert wird\, als gäbe es kein Morgen\, denn die Tage bis zum Jahresende sind bald gezählt. \n 
URL:https://nelsonpubzurich.ch/index.php/event/rock-the-night-3/
ATTACH;FMTTYPE=image/jpeg:https://nelsonpubzurich.ch/wp-content/uploads/2023/11/8.12.-Rock-the-Might.jpg
END:VEVENT
END:VCALENDAR