BEGIN:VCALENDAR
VERSION:2.0
PRODID:-//Nelson Pub Zürich - ECPv5.14.2.1//NONSGML v1.0//EN
CALSCALE:GREGORIAN
METHOD:PUBLISH
X-WR-CALNAME:Nelson Pub Zürich
X-ORIGINAL-URL:https://nelsonpubzurich.ch
X-WR-CALDESC:Events for Nelson Pub Zürich
BEGIN:VTIMEZONE
TZID:UTC
BEGIN:STANDARD
TZOFFSETFROM:+0000
TZOFFSETTO:+0000
TZNAME:UTC
DTSTART:20240101T000000
END:STANDARD
END:VTIMEZONE
BEGIN:VEVENT
DTSTART;TZID=UTC:20240802T200000
DTEND;TZID=UTC:20240803T043000
DTSTAMP:20260425T153823
CREATED:20231220T124310Z
LAST-MODIFIED:20240722T141711Z
UID:17143-1722628800-1722659400@nelsonpubzurich.ch
SUMMARY:Rock the Night
DESCRIPTION:Line Up: DJ Marque Q \nSoundstile: All Time Hits\, Club Dance \nRock the Night ist ein wahrgewordener Partytraum für Stadtzürcher und Expats. Hier finden sich die schönsten Grossstadtladies mit den charmantesten Gentlemen zusammen und lassen es so richtig krachen. Das Nelson Pub gilt als Hort der Gastlichkeit und Geselligkeit. Heute Nacht kann man zu den Beats von DJ Marque Q seine extravaganten Moves vorführen. Gespielt werden All Time Hits und Club Dance.
URL:https://nelsonpubzurich.ch/index.php/event/rock-the-night-4/
ATTACH;FMTTYPE=image/jpeg:https://nelsonpubzurich.ch/wp-content/uploads/2023/12/02.08..jpg
END:VEVENT
END:VCALENDAR