BEGIN:VCALENDAR
VERSION:2.0
PRODID:-//Nelson Pub Zürich - ECPv5.14.2.1//NONSGML v1.0//EN
CALSCALE:GREGORIAN
METHOD:PUBLISH
X-WR-CALNAME:Nelson Pub Zürich
X-ORIGINAL-URL:https://nelsonpubzurich.ch
X-WR-CALDESC:Events for Nelson Pub Zürich
BEGIN:VTIMEZONE
TZID:UTC
BEGIN:STANDARD
TZOFFSETFROM:+0000
TZOFFSETTO:+0000
TZNAME:UTC
DTSTART:20230101T000000
END:STANDARD
END:VTIMEZONE
BEGIN:VEVENT
DTSTART;TZID=UTC:20230923T200000
DTEND;TZID=UTC:20230924T043000
DTSTAMP:20260423T063537
CREATED:20211006T141428Z
LAST-MODIFIED:20230824T093703Z
UID:15068-1695499200-1695529800@nelsonpubzurich.ch
SUMMARY:Super Saturday
DESCRIPTION:Line Up: DJ Deenasty \nSoundstile: Partytunes\, Club Dance \nEs ist Zeit für den Super Saturday im wunderbaren Nelson Pub. Und hier wird einiges geboten: DJ Deenasty spielt Partytunes und Club Dance in erstklassiger Manier\, die Barcrew rührt und schüttelt dazu die zauberhaftesten Drinks und der Flirtfaktor unter den Anwesenden ist jedes Mal – extremly high.
URL:https://nelsonpubzurich.ch/index.php/event/rockthecity/
LOCATION:Nelson Pub Zürich
END:VEVENT
END:VCALENDAR