BEGIN:VCALENDAR
VERSION:2.0
PRODID:-//Nelson Pub Zürich - ECPv5.14.2.1//NONSGML v1.0//EN
CALSCALE:GREGORIAN
METHOD:PUBLISH
X-WR-CALNAME:Nelson Pub Zürich
X-ORIGINAL-URL:https://nelsonpubzurich.ch
X-WR-CALDESC:Events for Nelson Pub Zürich
BEGIN:VTIMEZONE
TZID:UTC
BEGIN:STANDARD
TZOFFSETFROM:+0000
TZOFFSETTO:+0000
TZNAME:UTC
DTSTART:20230101T000000
END:STANDARD
END:VTIMEZONE
BEGIN:VEVENT
DTSTART;TZID=UTC:20231028T200000
DTEND;TZID=UTC:20231029T043000
DTSTAMP:20260422T085026
CREATED:20211228T150306Z
LAST-MODIFIED:20230915T085549Z
UID:15208-1698523200-1698553800@nelsonpubzurich.ch
SUMMARY:Halloween Party
DESCRIPTION:Line Up: DJ Diego \nSoundstile: All Time Hits \nHalloween! Hexen und Zauberer\, dunkle Kreaturen der Nacht und geheimnisvolle Geister treffen sich\, um die Nacht zu zelebrieren. Das Nelson Pub bietet das perfekte Ambiente für eine Halloween-Nacht und DJ Diego steht an den Turntables und spielt dazu ein rasantes Set aus All Time Hits! \n 
URL:https://nelsonpubzurich.ch/index.php/event/super-friday-2/
LOCATION:Nelson Pub Zürich
ATTACH;FMTTYPE=image/jpeg:https://nelsonpubzurich.ch/wp-content/uploads/2022/12/28.10.-Halloween-Party.jpg
END:VEVENT
END:VCALENDAR