BEGIN:VCALENDAR
VERSION:2.0
PRODID:-//Nelson Pub Zürich - ECPv5.14.2.1//NONSGML v1.0//EN
CALSCALE:GREGORIAN
METHOD:PUBLISH
X-WR-CALNAME:Nelson Pub Zürich
X-ORIGINAL-URL:https://nelsonpubzurich.ch
X-WR-CALDESC:Events for Nelson Pub Zürich
BEGIN:VTIMEZONE
TZID:UTC
BEGIN:STANDARD
TZOFFSETFROM:+0000
TZOFFSETTO:+0000
TZNAME:UTC
DTSTART:20230101T000000
END:STANDARD
END:VTIMEZONE
BEGIN:VEVENT
DTSTART;TZID=UTC:20231201T200000
DTEND;TZID=UTC:20231202T043000
DTSTAMP:20260423T094554
CREATED:20231116T110445Z
LAST-MODIFIED:20231116T110445Z
UID:17043-1701460800-1701491400@nelsonpubzurich.ch
SUMMARY:Super Friday
DESCRIPTION:Line Up:               DJ Diego \n  \nSoundstile:           House\, Clubtunes\, Charts \n  \nEin letztes Mal heisst es dieses Jahr im Nelson Pub: Super Friday! Und da ist es an der Zeit\, einmal danke zu sagen. Danke an alle treuen Gäste\, danke an alle\, die dazu beigetragen haben\, dass 2023 im Nelson Pub ein weiteres unvergessliches Jahr voller zauberhafter Momente und toller Augenblicke war. DJ Diego steht hochmotiviert an den Decks und spielt nochmals House\, Clubtunes und Charts.
URL:https://nelsonpubzurich.ch/index.php/event/super-friday-4/
ATTACH;FMTTYPE=image/jpeg:https://nelsonpubzurich.ch/wp-content/uploads/2023/11/1.12.-Super-Friday-1.jpg
END:VEVENT
END:VCALENDAR