BEGIN:VCALENDAR
VERSION:2.0
PRODID:-//Nelson Pub Zürich - ECPv5.14.2.1//NONSGML v1.0//EN
CALSCALE:GREGORIAN
METHOD:PUBLISH
X-WR-CALNAME:Nelson Pub Zürich
X-ORIGINAL-URL:https://nelsonpubzurich.ch
X-WR-CALDESC:Events for Nelson Pub Zürich
BEGIN:VTIMEZONE
TZID:UTC
BEGIN:STANDARD
TZOFFSETFROM:+0000
TZOFFSETTO:+0000
TZNAME:UTC
DTSTART:20240101T000000
END:STANDARD
END:VTIMEZONE
BEGIN:VEVENT
DTSTART;TZID=UTC:20240524T200000
DTEND;TZID=UTC:20240525T043000
DTSTAMP:20260424T131211
CREATED:20231220T125637Z
LAST-MODIFIED:20240426T085707Z
UID:17161-1716580800-1716611400@nelsonpubzurich.ch
SUMMARY:Super Friday
DESCRIPTION:Line Up:               DJ Deenasty \nSoundstile:           90’s\, 2000’s\, Partytunes \nOh yes it’s Friday Night\, and the Feeling’s right. Die perfekte Party für den Monatsstart liefert heute das Nelson Pub: Super Friday ist eine Fete für Leute\, die das Ungezwungene lieben und die gerne neue Freunde kennenlernen. Die passende Feiermucke kommt aus den Plattenkoffern von DJ Deenasty: 90’s\, 2000’s und Partytunes für Leib und Seele und all Night long.
URL:https://nelsonpubzurich.ch/index.php/event/super-friday-5/
ATTACH;FMTTYPE=image/jpeg:https://nelsonpubzurich.ch/wp-content/uploads/2023/11/24.5.-Super-Friday.jpg
END:VEVENT
END:VCALENDAR