BEGIN:VCALENDAR
VERSION:2.0
PRODID:-//Nelson Pub Zürich - ECPv5.14.2.1//NONSGML v1.0//EN
CALSCALE:GREGORIAN
METHOD:PUBLISH
X-WR-CALNAME:Nelson Pub Zürich
X-ORIGINAL-URL:https://nelsonpubzurich.ch
X-WR-CALDESC:Events for Nelson Pub Zürich
BEGIN:VTIMEZONE
TZID:UTC
BEGIN:STANDARD
TZOFFSETFROM:+0000
TZOFFSETTO:+0000
TZNAME:UTC
DTSTART:20260101T000000
END:STANDARD
END:VTIMEZONE
BEGIN:VEVENT
DTSTART;TZID=UTC:20260430T200000
DTEND;TZID=UTC:20260501T040000
DTSTAMP:20260420T172326
CREATED:20241028T101301Z
LAST-MODIFIED:20260327T151035Z
UID:17733-1777579200-1777608000@nelsonpubzurich.ch
SUMMARY:Queen's Day
DESCRIPTION:DJ: Carlos Rivera\nMusic: Charts\, Disco\, All Time Hits \nCelebrate Queen’s Day in style at Nelson Pub\, Zurich!✨ \nDJ Carlos Rivera will bring the energy with the best Charts\, Disco & All-Time Hits. 🎶💃🕺 \nDress in orange\, grab your friends\, and get ready to dance\, sing along\, and party like royalty! 🍻🎉 The perfect night to celebrate Dutch tradition\, music\, and unforgettable vibes. Let’s make this Queen’s Day one to remember! 🧡👑🎶
URL:https://nelsonpubzurich.ch/index.php/event/super-friday-8/
ATTACH;FMTTYPE=image/jpeg:https://nelsonpubzurich.ch/wp-content/uploads/2024/10/30.04.2026.jpg
END:VEVENT
END:VCALENDAR