BEGIN:VCALENDAR
VERSION:2.0
PRODID:-//Nelson Pub Zürich - ECPv5.14.2.1//NONSGML v1.0//EN
CALSCALE:GREGORIAN
METHOD:PUBLISH
X-WR-CALNAME:Nelson Pub Zürich
X-ORIGINAL-URL:https://nelsonpubzurich.ch
X-WR-CALDESC:Events for Nelson Pub Zürich
BEGIN:VTIMEZONE
TZID:UTC
BEGIN:STANDARD
TZOFFSETFROM:+0000
TZOFFSETTO:+0000
TZNAME:UTC
DTSTART:20230101T000000
END:STANDARD
END:VTIMEZONE
BEGIN:VEVENT
DTSTART;TZID=UTC:20230921T200000
DTEND;TZID=UTC:20230922T020000
DTSTAMP:20260423T100741
CREATED:20211228T150739Z
LAST-MODIFIED:20230824T093414Z
UID:15220-1695326400-1695348000@nelsonpubzurich.ch
SUMMARY:Kings of Kreis 1
DESCRIPTION:Line Up: DJ Carlos Rivera \nSoundstile: House\, Clubtunes\, Charts \nDer 21. September im Nelson Pub richtet sich wieder an die einzigartige Klientel der Kings of Kreis 1. Mit Witz\, Charme und Partypower treffen hier echte Grossstadtcowboys auf atemberaubende City-Girls und gemeinsam machen sie die Nacht zum Tage. DJ Carlos Rivera ist der Turntablemaster und mit flinken Fingern zaubert sie einen erstklassigen Sound aus House\, Clubtunes und Charts auf den Dancefloor.
URL:https://nelsonpubzurich.ch/index.php/event/super-saturday-3/
LOCATION:Nelson Pub Zürich
END:VEVENT
END:VCALENDAR