BEGIN:VCALENDAR
VERSION:2.0
PRODID:-//Nelson Pub Zürich - ECPv5.14.2.1//NONSGML v1.0//EN
CALSCALE:GREGORIAN
METHOD:PUBLISH
X-WR-CALNAME:Nelson Pub Zürich
X-ORIGINAL-URL:https://nelsonpubzurich.ch
X-WR-CALDESC:Events for Nelson Pub Zürich
BEGIN:VTIMEZONE
TZID:UTC
BEGIN:STANDARD
TZOFFSETFROM:+0000
TZOFFSETTO:+0000
TZNAME:UTC
DTSTART:20230101T000000
END:STANDARD
END:VTIMEZONE
BEGIN:VEVENT
DTSTART;TZID=UTC:20231104T200000
DTEND;TZID=UTC:20231105T043000
DTSTAMP:20260422T134801
CREATED:20231026T075836Z
LAST-MODIFIED:20231026T075836Z
UID:16986-1699128000-1699158600@nelsonpubzurich.ch
SUMMARY:Super Saturday
DESCRIPTION:Line Up:               DJ Lorenzo \n  \nSoundstile:           Deep House\, Mashup\, Club Dance \nLet’s talk about sex\, Baby…. Let`s talk about you and me… Oder besser noch\, man schiebt das Zweiergespräch ein wenig auf und startet ins Weekend erstmal mit dem Motto: Let’s Party\, Let’s Party – und zwar alle zusammen mit Freunden\, Kollegen und im schönen Nelson Pub. DJ Lorenzo sorgt für die richtigen Rhythmen: Mit Deep House\, Mashup und Club Dance lässt er den Boden beben und die Girls und Boys abdancen.
URL:https://nelsonpubzurich.ch/index.php/event/super-saturday-4/
ATTACH;FMTTYPE=image/jpeg:https://nelsonpubzurich.ch/wp-content/uploads/2023/10/4.11.-Super-Saturday.jpg
END:VEVENT
END:VCALENDAR