BEGIN:VCALENDAR
VERSION:2.0
PRODID:-//Nelson Pub Zürich - ECPv5.14.2.1//NONSGML v1.0//EN
CALSCALE:GREGORIAN
METHOD:PUBLISH
X-WR-CALNAME:Nelson Pub Zürich
X-ORIGINAL-URL:https://nelsonpubzurich.ch
X-WR-CALDESC:Events for Nelson Pub Zürich
BEGIN:VTIMEZONE
TZID:UTC
BEGIN:STANDARD
TZOFFSETFROM:+0000
TZOFFSETTO:+0000
TZNAME:UTC
DTSTART:20240101T000000
END:STANDARD
END:VTIMEZONE
BEGIN:VEVENT
DTSTART;TZID=UTC:20240608T200000
DTEND;TZID=UTC:20240609T043000
DTSTAMP:20260424T210117
CREATED:20231116T131148Z
LAST-MODIFIED:20240530T094820Z
UID:17094-1717876800-1717907400@nelsonpubzurich.ch
SUMMARY:Burnout Night
DESCRIPTION:Line Up:               DJ Adamsky \nSoundstile:           Charts\, Club Dance \nDie Burnout Night im Nelson Pub steht dafür\, was sie verhindern will: ein Burnout wegen zuviel Stress. Denn Tanzen gilt als entspannend und Musik hebt die Stimmung. DJ Adamksy  fungiert an den Turns als Oberarzt\, der Charts und Club Dance an seine Gäste auch ohne Rezept verteilt.
URL:https://nelsonpubzurich.ch/index.php/event/super-saturday-5/
ATTACH;FMTTYPE=image/jpeg:https://nelsonpubzurich.ch/wp-content/uploads/2023/11/08.06.-Burnout-Night.jpg
END:VEVENT
END:VCALENDAR