BEGIN:VCALENDAR
VERSION:2.0
PRODID:-//Nelson Pub Zürich - ECPv5.14.2.1//NONSGML v1.0//EN
CALSCALE:GREGORIAN
METHOD:PUBLISH
X-WR-CALNAME:Nelson Pub Zürich
X-ORIGINAL-URL:https://nelsonpubzurich.ch
X-WR-CALDESC:Events for Nelson Pub Zürich
BEGIN:VTIMEZONE
TZID:UTC
BEGIN:STANDARD
TZOFFSETFROM:+0000
TZOFFSETTO:+0000
TZNAME:UTC
DTSTART:20240101T000000
END:STANDARD
END:VTIMEZONE
BEGIN:VEVENT
DTSTART;TZID=UTC:20240810T200000
DTEND;TZID=UTC:20240811T043000
DTSTAMP:20260425T221830
CREATED:20231220T125201Z
LAST-MODIFIED:20240722T142102Z
UID:17155-1723320000-1723350600@nelsonpubzurich.ch
SUMMARY:Street Parade Afterparty
DESCRIPTION:Line Up: DJ Xeno \nSoundstile: Vocal House\, Charts\, Club \nIt’s Street Parade! Einmal im Jahr wird Zürich zum weltweit beachteten Partymekka\, ein Hexenkessel aus extravagenten Events. Abertausende Menschen pilgern in unsere schöne Limmatstadt. Wer nach der Parade weiterfeiern will\, dem sei der Gang ins Nelson Pub empfohlen. Unmittelbar an der Bahnhofstrasse gelegen\, wird hier die Nacht zum Tage gemacht. DJ Xeno spielt Vocal House\, Charts und Club.
URL:https://nelsonpubzurich.ch/index.php/event/super-saturday-6/
ATTACH;FMTTYPE=image/jpeg:https://nelsonpubzurich.ch/wp-content/uploads/2023/12/10.08..jpg
END:VEVENT
END:VCALENDAR