BEGIN:VCALENDAR
VERSION:2.0
PRODID:-//Nelson Pub Zürich - ECPv5.14.2.1//NONSGML v1.0//EN
CALSCALE:GREGORIAN
METHOD:PUBLISH
X-WR-CALNAME:Nelson Pub Zürich
X-ORIGINAL-URL:https://nelsonpubzurich.ch
X-WR-CALDESC:Events for Nelson Pub Zürich
BEGIN:VTIMEZONE
TZID:UTC
BEGIN:STANDARD
TZOFFSETFROM:+0000
TZOFFSETTO:+0000
TZNAME:UTC
DTSTART:20230101T000000
END:STANDARD
END:VTIMEZONE
BEGIN:VEVENT
DTSTART;TZID=UTC:20231006T200000
DTEND;TZID=UTC:20231007T043000
DTSTAMP:20260422T215553
CREATED:20211228T150627Z
LAST-MODIFIED:20230915T083348Z
UID:15217-1696622400-1696653000@nelsonpubzurich.ch
SUMMARY:Burnout Night
DESCRIPTION:Line Up: DJ Diego \nSoundstile: All Time Hits\, Club Dance \nDie Burnout Night im Nelson Pub steht dafür\, was sie verhindern will: ein Burnout wegen zuviel Stress. Denn Tanzen gilt als entspannend und Musik hebt die Stimmung. DJ Diego fungiert an den Turns als Oberarzt\, der All Times Hits und Club Dance an seine Gäste auch ohne Rezept verteilt.
URL:https://nelsonpubzurich.ch/index.php/event/weekend-starter-2/
LOCATION:Nelson Pub Zürich
ATTACH;FMTTYPE=image/jpeg:https://nelsonpubzurich.ch/wp-content/uploads/2022/12/6.10.-Burnout-Night.jpg
END:VEVENT
END:VCALENDAR