BEGIN:VCALENDAR
VERSION:2.0
PRODID:-//Nelson Pub Zürich - ECPv5.14.2.1//NONSGML v1.0//EN
CALSCALE:GREGORIAN
METHOD:PUBLISH
X-WR-CALNAME:Nelson Pub Zürich
X-ORIGINAL-URL:https://nelsonpubzurich.ch
X-WR-CALDESC:Events for Nelson Pub Zürich
BEGIN:VTIMEZONE
TZID:UTC
BEGIN:STANDARD
TZOFFSETFROM:+0000
TZOFFSETTO:+0000
TZNAME:UTC
DTSTART:20240101T000000
END:STANDARD
END:VTIMEZONE
BEGIN:VEVENT
DTSTART;TZID=UTC:20240913T200000
DTEND;TZID=UTC:20240914T043000
DTSTAMP:20260426T033757
CREATED:20240816T075715Z
LAST-MODIFIED:20240816T075715Z
UID:17649-1726257600-1726288200@nelsonpubzurich.ch
SUMMARY:Weekend Starter
DESCRIPTION:Line Up:               DJ Sebatsiano Rima \n  \nSoundstile:           House\, Clubtunes\, Charts \n  \nAuf ins Wochenende! Mit der Weekend Starter Sause stehen wir im Nelson Pub schon in den Startlöchern\, um furios und spektakulär das Weekend einzuläuten. DJ Sebastiano Rima ist der Tausendsassa\, der an den Decks für exzellenten Sound sorgt. Mit erstklassigem Fingerspitzengefühl lässt er einen Megahit nach dem anderen erklingen. House\, Clubtunes und Mashup– so viel das Ohr begehrt.
URL:https://nelsonpubzurich.ch/index.php/event/weekend-starter-7/
ATTACH;FMTTYPE=image/jpeg:https://nelsonpubzurich.ch/wp-content/uploads/2024/08/13.09..jpg
END:VEVENT
END:VCALENDAR