BEGIN:VCALENDAR
VERSION:2.0
PRODID:-//Nelson Pub Zürich - ECPv5.14.2.1//NONSGML v1.0//EN
CALSCALE:GREGORIAN
METHOD:PUBLISH
X-WR-CALNAME:Nelson Pub Zürich
X-ORIGINAL-URL:https://nelsonpubzurich.ch
X-WR-CALDESC:Events for Nelson Pub Zürich
BEGIN:VTIMEZONE
TZID:UTC
BEGIN:STANDARD
TZOFFSETFROM:+0000
TZOFFSETTO:+0000
TZNAME:UTC
DTSTART:20230101T000000
END:STANDARD
END:VTIMEZONE
BEGIN:VEVENT
DTSTART;TZID=UTC:20230731T200000
DTEND;TZID=UTC:20230801T043000
DTSTAMP:20260423T184000
CREATED:20211006T140523Z
LAST-MODIFIED:20230727T092938Z
UID:15053-1690833600-1690864200@nelsonpubzurich.ch
SUMMARY:1st of August Party – Open End
DESCRIPTION:Line Up: DJ Casa \nSoundstile: Charts\, Club Dance \nHappy Birthday Switzerland! Im Nelson Pub legen wir Wert auf Traditionen. Und die Schweiz hat davon zahlreiche zu bieten. Darum wollen wir sie am Montag hochleben lassen. Mit einem Geburtstagsständchen bringt DJ Casa um Mitternacht ein Hoch auf Helvetia aus. Charts und Club Dance all Night long sorgen für Beststimmung beim Publikum. Eine ausgelassene Nacht mit open end ist garantiert.
URL:https://nelsonpubzurich.ch/index.php/event/weekend-starter/
LOCATION:Nelson Pub Zürich
END:VEVENT
END:VCALENDAR