BEGIN:VCALENDAR
VERSION:2.0
PRODID:-//Nelson Pub Zürich - ECPv5.14.2.1//NONSGML v1.0//EN
CALSCALE:GREGORIAN
METHOD:PUBLISH
X-WR-CALNAME:Nelson Pub Zürich
X-ORIGINAL-URL:https://nelsonpubzurich.ch
X-WR-CALDESC:Events for Nelson Pub Zürich
BEGIN:VTIMEZONE
TZID:UTC
BEGIN:STANDARD
TZOFFSETFROM:+0000
TZOFFSETTO:+0000
TZNAME:UTC
DTSTART:20240101T000000
END:STANDARD
END:VTIMEZONE
BEGIN:VEVENT
DTSTART;TZID=UTC:20240519T200000
DTEND;TZID=UTC:20240520T043000
DTSTAMP:20260424T103036
CREATED:20231116T113325Z
LAST-MODIFIED:20240426T084630Z
UID:17079-1716148800-1716179400@nelsonpubzurich.ch
SUMMARY:King Knights – Open End
DESCRIPTION:Line Up:               DJ Xeno \nSoundstile:           All Time Hits \nAn alle Prinzen und Grossstadthelden: Heute ist euer Abend! Das Nelson Pub trommelt wieder zur Supersause King Knights und dies heisst nichts weniger\, als dass eine furiose Fete wartet\, auf der man es so richtig krachen lassen kann. Als Garant für beste Stimmung fungiert DJ Xeno\, der ein knalliges Set aus den besten Hits aller Zeiten hören lässt. \n 
URL:https://nelsonpubzurich.ch/index.php/event/x-mas-day-2/
ATTACH;FMTTYPE=image/jpeg:https://nelsonpubzurich.ch/wp-content/uploads/2023/11/19.5.-King-Knights.jpg
END:VEVENT
END:VCALENDAR