BEGIN:VCALENDAR
VERSION:2.0
PRODID:-//Nelson Pub Zürich - ECPv5.14.2.1//NONSGML v1.0//EN
CALSCALE:GREGORIAN
METHOD:PUBLISH
X-WR-CALNAME:Nelson Pub Zürich
X-ORIGINAL-URL:https://nelsonpubzurich.ch
X-WR-CALDESC:Events for Nelson Pub Zürich
BEGIN:VTIMEZONE
TZID:UTC
BEGIN:STANDARD
TZOFFSETFROM:+0000
TZOFFSETTO:+0000
TZNAME:UTC
DTSTART:20230101T000000
END:STANDARD
END:VTIMEZONE
BEGIN:VEVENT
DTSTART;TZID=UTC:20231020T200000
DTEND;TZID=UTC:20231021T043000
DTSTAMP:20260422T135340
CREATED:20211028T141540Z
LAST-MODIFIED:20230915T085135Z
UID:15093-1697832000-1697862600@nelsonpubzurich.ch
SUMMARY:King Knights
DESCRIPTION:Line Up: DJ Sebastiano Rima \nSoundstile: 90’s\, 2000’s\, Partytunes \nSchwarzblauer Nachthimmel und funkelnde Sterne! Das ist der Moment für die King Knights. Hier werden sie wieder im Nelson Pub zusammengetrommelt\, auf dass eine illustre Runde entsteht\, die gemeinsam eine ausschweifende Partynacht zelebriert. Den stimmungsvollen Rahmen bieten das charmante Ambiente des schmucken Pubs sowie erstklassiger Sound von DJ Sebastiano Rima mit 90’s\, 2000s und Partytunes.
URL:https://nelsonpubzurich.ch/index.php/event/x-mas-day/
LOCATION:Nelson Pub Zürich
ATTACH;FMTTYPE=image/jpeg:https://nelsonpubzurich.ch/wp-content/uploads/2022/12/20.10.-Kings-Knights.jpg
END:VEVENT
END:VCALENDAR