BEGIN:VCALENDAR
VERSION:2.0
PRODID:-//Nelson Pub Zürich - ECPv5.14.2.1//NONSGML v1.0//EN
CALSCALE:GREGORIAN
METHOD:PUBLISH
X-WR-CALNAME:Nelson Pub Zürich
X-ORIGINAL-URL:https://nelsonpubzurich.ch
X-WR-CALDESC:Events for Nelson Pub Zürich
BEGIN:VTIMEZONE
TZID:UTC
BEGIN:STANDARD
TZOFFSETFROM:+0000
TZOFFSETTO:+0000
TZNAME:UTC
DTSTART:20230101T000000
END:STANDARD
END:VTIMEZONE
BEGIN:VEVENT
DTSTART;TZID=UTC:20231223T200000
DTEND;TZID=UTC:20231224T043000
DTSTAMP:20260424T020215
CREATED:20231116T112644Z
LAST-MODIFIED:20231116T112644Z
UID:17073-1703361600-1703392200@nelsonpubzurich.ch
SUMMARY:X-Mas Speical
DESCRIPTION:Line Up:               DJ Diego \n  \nSoundstile:           Vocal House\, Charts\, Club \nMorgen\, Kinder\, wird`s was geben\, morgen werden wir uns freuen. Tralalalala… So singen jetzt die Weihnachtschöre aus allen Lautsprechern. Doch warum auf morgen warten? Im beliebten Nelson Pub wird in die Weihnachtstage hineingefeiert und zwar schon heute Abend und mit einer X-Mas Special Ausgabe. DJ Diego steht dazu an den Decks und heizt mit Vocal House\, Charts und Club so richtig ein.
URL:https://nelsonpubzurich.ch/index.php/event/x-mas-speical/
ATTACH;FMTTYPE=image/jpeg:https://nelsonpubzurich.ch/wp-content/uploads/2023/11/23.12.-X-Mas-Special.jpg
END:VEVENT
END:VCALENDAR